BEGIN:VCALENDAR
VERSION:2.0
PRODID:-//demosphere.net//NONSGML kigkonsult.se iCalcreator 2.22.1//
METHOD:REQUEST
X-WR-TIMEZONE:Europe/Madrid
BEGIN:VEVENT
UID:https://safe.axendamazucu.org/evento/9050
DTSTAMP:20211012T160000Z
DESCRIPTION:más información aquí: https://safe.axendamazucu.org/evento/9050
DTSTART:20211012T160000Z
DTEND:20211012T170000Z
GEO:+43.564505;-5.922298
LOCATION:Avilés\, \nPub Paseo Malecón\, \nAv. Conde de Guadalhorce\, 39\,Av
 ilés
SUMMARY:Presentación disco Hierbabuena Tocaos del Ala
URL:https://safe.axendamazucu.org/evento/9050
END:VEVENT
END:VCALENDAR
