BEGIN:VCALENDAR
VERSION:2.0
PRODID:-//demosphere.net//NONSGML kigkonsult.se iCalcreator 2.22.1//
METHOD:REQUEST
X-WR-TIMEZONE:Europe/Madrid
BEGIN:VEVENT
UID:https://safe.axendamazucu.org/evento/9088
DTSTAMP:20211029T170000Z
DESCRIPTION:más información aquí: https://safe.axendamazucu.org/evento/9088
DTSTART:20211029T170000Z
DTEND:20211029T180000Z
GEO:+43.588312;-5.768384
LOCATION:Carreño\, \nCasa del Pueblo CNT Candás\,Avda.Reina María Cristina 
 24\,Candás
SUMMARY:Centenario CNT Candás.Proyección del documental 'Los labios apretad
 os'
URL:https://safe.axendamazucu.org/evento/9088
END:VEVENT
END:VCALENDAR
