BEGIN:VCALENDAR
VERSION:2.0
PRODID:-//demosphere.net//NONSGML kigkonsult.se iCalcreator 2.22.1//
METHOD:REQUEST
X-WR-TIMEZONE:Europe/Madrid
BEGIN:VEVENT
UID:https://safe.axendamazucu.org/evento/9125
DTSTAMP:20211106T110000Z
DESCRIPTION:más información aquí: https://safe.axendamazucu.org/evento/9125
DTSTART:20211106T110000Z
DTEND:20211106T120000Z
GEO:+43.588312;-5.768384
LOCATION:Carreño\, \nCasa del Pueblo CNT Candás\,Avda.Reina María Cristina 
 24\,Candás
SUMMARY:Centenario CNT Candás.Espicha-Concierto
URL:https://safe.axendamazucu.org/evento/9125
END:VEVENT
END:VCALENDAR
