BEGIN:VCALENDAR
VERSION:2.0
PRODID:-//demosphere.net//NONSGML kigkonsult.se iCalcreator 2.22.1//
METHOD:REQUEST
X-WR-TIMEZONE:Europe/Madrid
BEGIN:VEVENT
UID:https://safe.axendamazucu.org/evento/9153
DTSTAMP:20211124T183000Z
DESCRIPTION:más información aquí: https://safe.axendamazucu.org/evento/9153
DTSTART:20211124T183000Z
DTEND:20211124T193000Z
GEO:+43.54012;-5.668148
LOCATION:Xixón/Gijón\, \nCasa Sindical Xixón\,C/Sanz Crespo\,3
SUMMARY:Presentación de 'Amianto' de Alberto Prunetti
URL:https://safe.axendamazucu.org/evento/9153
END:VEVENT
END:VCALENDAR
