BEGIN:VCALENDAR
VERSION:2.0
PRODID:-//demosphere.net//NONSGML kigkonsult.se iCalcreator 2.22.1//
METHOD:REQUEST
X-WR-TIMEZONE:Europe/Madrid
BEGIN:VEVENT
UID:https://safe.axendamazucu.org/evento/9317
DTSTAMP:20220113T170000Z
DESCRIPTION:más información aquí: https://safe.axendamazucu.org/evento/9317
DTSTART:20220113T170000Z
DTEND:20220113T180000Z
GEO:+43.54012;-5.668148
LOCATION:Xixón/Gijón\, \nCasa Sindical Xixón\,C/Sanz Crespo\,3
SUMMARY:Alderiques:Reforma Llaboral\,¿Derogación o estafa?
URL:https://safe.axendamazucu.org/evento/9317
END:VEVENT
END:VCALENDAR
