BEGIN:VCALENDAR
VERSION:2.0
PRODID:-//demosphere.net//NONSGML kigkonsult.se iCalcreator 2.22.1//
METHOD:REQUEST
X-WR-TIMEZONE:Europe/Madrid
BEGIN:VEVENT
UID:https://safe.axendamazucu.org/evento/9318
DTSTAMP:20220120T170000Z
DESCRIPTION:más información aquí: https://safe.axendamazucu.org/evento/9318
DTSTART:20220120T170000Z
DTEND:20220120T180000Z
GEO:+43.54012;-5.668148
LOCATION:Xixón/Gijón\, \nCasa Sindical Xixón\,C/Sanz Crespo\,3
SUMMARY:Alderiques:La industria somos quienes trabajamos n'ella
URL:https://safe.axendamazucu.org/evento/9318
END:VEVENT
END:VCALENDAR
