BEGIN:VCALENDAR
VERSION:2.0
PRODID:-//demosphere.net//NONSGML kigkonsult.se iCalcreator 2.22.1//
METHOD:REQUEST
X-WR-TIMEZONE:Europe/Madrid
BEGIN:VEVENT
UID:https://safe.axendamazucu.org/evento/9352
DTSTAMP:20220130T110000Z
DESCRIPTION:más información aquí: https://safe.axendamazucu.org/evento/9352
DTSTART:20220130T110000Z
DTEND:20220130T120000Z
GEO:+43.54012;-5.668148
LOCATION:Xixón/Gijón\, \nCasa Sindical Xixón\,C/Sanz Crespo\,3
SUMMARY:Concentración pol derogamientu de la reforma llaboral
URL:https://safe.axendamazucu.org/evento/9352
END:VEVENT
END:VCALENDAR
