BEGIN:VCALENDAR
VERSION:2.0
PRODID:-//demosphere.net//NONSGML kigkonsult.se iCalcreator 2.22.1//
METHOD:REQUEST
X-WR-TIMEZONE:Europe/Madrid
BEGIN:VEVENT
UID:https://safe.axendamazucu.org/evento/9379
DTSTAMP:20220223T180000Z
DESCRIPTION:más información aquí: https://safe.axendamazucu.org/evento/9379
DTSTART:20220223T180000Z
DTEND:20220223T190000Z
GEO:+43.54012;-5.668148
LOCATION:Xixón/Gijón\, \nCasa Sindical Xixón\,C/Sanz Crespo\,3
SUMMARY:Presentación del libro 'Apuntes para combatir a la extrema derecha 
 española'
URL:https://safe.axendamazucu.org/evento/9379
END:VEVENT
END:VCALENDAR
