BEGIN:VCALENDAR
VERSION:2.0
PRODID:-//demosphere.net//NONSGML kigkonsult.se iCalcreator 2.22.1//
METHOD:REQUEST
X-WR-TIMEZONE:Europe/Madrid
BEGIN:VEVENT
UID:https://safe.axendamazucu.org/evento/9401
DTSTAMP:20220219T110000Z
DESCRIPTION:más información aquí: https://safe.axendamazucu.org/evento/9401
DTSTART:20220219T110000Z
DTEND:20220219T120000Z
GEO:+43.539134;-5.657905
LOCATION:Xixón/Gijón\, \nLa habitación propia \nCelestino Junquera\, 1\, 33
 202 Xixón
SUMMARY:Vermut artístico
URL:https://safe.axendamazucu.org/evento/9401
END:VEVENT
END:VCALENDAR
