BEGIN:VCALENDAR
VERSION:2.0
PRODID:-//demosphere.net//NONSGML kigkonsult.se iCalcreator 2.22.1//
METHOD:REQUEST
X-WR-TIMEZONE:Europe/Madrid
BEGIN:VEVENT
UID:https://safe.axendamazucu.org/evento/9435
DTSTAMP:20220223T170000Z
DESCRIPTION:más información aquí: https://safe.axendamazucu.org/evento/9435
DTSTART:20220223T170000Z
DTEND:20220223T180000Z
GEO:+43.35991;-5.84389
LOCATION:Uviéu/Oviedo\, \nCervecería La Raposa \nC/ Carpio 8-10 Bajo\, 3300
 9 Oviedo
SUMMARY:Grupo de costura en La Raposa
URL:https://safe.axendamazucu.org/evento/9435
END:VEVENT
END:VCALENDAR
