BEGIN:VCALENDAR
VERSION:2.0
PRODID:-//demosphere.net//NONSGML kigkonsult.se iCalcreator 2.22.1//
METHOD:REQUEST
X-WR-TIMEZONE:Europe/Madrid
BEGIN:VEVENT
UID:https://safe.axendamazucu.org/evento/9566
DTSTAMP:20220409T103000Z
DESCRIPTION:más información aquí: https://safe.axendamazucu.org/evento/9566
DTSTART:20220409T103000Z
DTEND:20220409T113000Z
GEO:+43.588312;-5.768384
LOCATION:Carreño\, \nCasa del Pueblo CNT Candás\,Avda.Reina María Cristina 
 24\,Candás
SUMMARY:Presentación del libro 'Me llamo Aquilino Moral'-Autobiografía de u
 n héroe prudente
URL:https://safe.axendamazucu.org/evento/9566
END:VEVENT
END:VCALENDAR
