BEGIN:VCALENDAR
VERSION:2.0
PRODID:-//demosphere.net//NONSGML kigkonsult.se iCalcreator 2.22.1//
METHOD:REQUEST
X-WR-TIMEZONE:Europe/Madrid
BEGIN:VEVENT
UID:https://safe.axendamazucu.org/evento/9594
DTSTAMP:20220423T080000Z
DESCRIPTION:más información aquí: https://safe.axendamazucu.org/evento/9594
DTSTART:20220423T080000Z
DTEND:20220423T090000Z
GEO:+43.3603;-5.84338
LOCATION:Oviedo\, \nEl Olivar: C/ Oscura\, nº 1/3 - Oviedo (Asturias)
SUMMARY:Herramientas libres contra la censura informativa
URL:https://safe.axendamazucu.org/evento/9594
END:VEVENT
END:VCALENDAR
