BEGIN:VCALENDAR
VERSION:2.0
PRODID:-//demosphere.net//NONSGML kigkonsult.se iCalcreator 2.22.1//
METHOD:REQUEST
X-WR-TIMEZONE:Europe/Madrid
BEGIN:VEVENT
UID:https://safe.axendamazucu.org/evento/9595
DTSTAMP:20220418T180000Z
DESCRIPTION:más información aquí: https://safe.axendamazucu.org/evento/9595
DTSTART:20220418T180000Z
DTEND:20220418T190000Z
GEO:+43.362054;-5.848037
LOCATION:Uviéu/Oviedo\, \nPlaza de la Escandalera
SUMMARY:Concentración ¡Basta ya! El machismo mata
URL:https://safe.axendamazucu.org/evento/9595
END:VEVENT
END:VCALENDAR
