BEGIN:VCALENDAR
VERSION:2.0
PRODID:-//demosphere.net//NONSGML kigkonsult.se iCalcreator 2.22.1//
METHOD:REQUEST
X-WR-TIMEZONE:Europe/Madrid
BEGIN:VEVENT
UID:https://safe.axendamazucu.org/evento/968
DTSTAMP:20140523T170000Z
DESCRIPTION:más información aquí: https://safe.axendamazucu.org/evento/968
DTSTART:20140523T170000Z
DTEND:20140523T180000Z
GEO:+43.249719;-5.778528
LOCATION:Mieres\, \nCasa de la Música C/ Escuela de Capataces nº41
SUMMARY:Salir del Euro: Recuperar la política
URL:https://safe.axendamazucu.org/evento/968
END:VEVENT
END:VCALENDAR
