BEGIN:VCALENDAR
VERSION:2.0
PRODID:-//demosphere.net//NONSGML kigkonsult.se iCalcreator 2.22.1//
METHOD:REQUEST
X-WR-TIMEZONE:Europe/Madrid
BEGIN:VEVENT
UID:https://safe.axendamazucu.org/evento/9718
DTSTAMP:20220518T170000Z
DESCRIPTION:más información aquí: https://safe.axendamazucu.org/evento/9718
DTSTART:20220518T170000Z
DTEND:20220518T180000Z
GEO:+43.310917;-5.688894
LOCATION:Llangreu\, \nC.S.A. La Xusticia \nC/Valentín Ochoa 5\,La Felguera
SUMMARY:Presentaciones:'Antiteísmo revolucionario' y 'Amante de la vida des
 tructor de todo'
URL:https://safe.axendamazucu.org/evento/9718
END:VEVENT
END:VCALENDAR
