BEGIN:VCALENDAR
VERSION:2.0
PRODID:-//demosphere.net//NONSGML kigkonsult.se iCalcreator 2.22.1//
METHOD:REQUEST
X-WR-TIMEZONE:Europe/Madrid
BEGIN:VEVENT
UID:https://safe.axendamazucu.org/evento/9873
DTSTAMP:20220629T170000Z
DESCRIPTION:más información aquí: https://safe.axendamazucu.org/evento/9873
DTSTART:20220629T170000Z
DTEND:20220629T180000Z
GEO:+43.54012;-5.668148
LOCATION:Xixón/Gijón\, \nCasa Sindical Xixón\,C/Sanz Crespo\,3
SUMMARY:Presentación del libro 'Antifascistas'\, con su autor Miquel Ramos
URL:https://safe.axendamazucu.org/evento/9873
END:VEVENT
END:VCALENDAR
