BEGIN:VCALENDAR
VERSION:2.0
PRODID:-//demosphere.net//NONSGML kigkonsult.se iCalcreator 2.22.1//
METHOD:REQUEST
X-WR-TIMEZONE:Europe/Madrid
BEGIN:VEVENT
UID:https://safe.axendamazucu.org/evento/9932
DTSTAMP:20220715T180000Z
DESCRIPTION:más información aquí: https://safe.axendamazucu.org/evento/9932
DTSTART:20220715T180000Z
DTEND:20220715T190000Z
GEO:+43.588312;-5.768384
LOCATION:Carreño\, \nCasa del Pueblo CNT Candás\,Avda.Reina María Cristina 
 24\,Candás
SUMMARY:Proyección de la película-documental 'El trabajo'\, con asistencia 
 de su directora
URL:https://safe.axendamazucu.org/evento/9932
END:VEVENT
END:VCALENDAR
